BEGIN:VCALENDAR
PRODID:Partyamt DarmstadtVERSION:2.0
X-WR-CALNAME:Partyamt DarmstadtUID:190852@partyamt.deX-WR-TIMEZONE:Europe/Berlin
CALSCALE:GREGORIAN
METHOD:PUBLISH
BEGIN:VEVENT
SUMMARY:Arheilger Hinterhofschätze
DTSTART:20260823T100000
DTEND;VALUE=DATE:20260823T120000
LOCATION:64291 Darmstadt Arheilgen
DESCRIPTION:www.partyamt.de/index.php?action=single&id=190852
END:VEVENT
END:VCALENDAR