BEGIN:VCALENDAR
PRODID:Partyamt DarmstadtVERSION:2.0
X-WR-CALNAME:Partyamt DarmstadtUID:190851@partyamt.deX-WR-TIMEZONE:Europe/Berlin
CALSCALE:GREGORIAN
METHOD:PUBLISH
BEGIN:VEVENT
SUMMARY:Vorsortierter Basar - Alles rund ums Kind
DTSTART:20260509T100000
DTEND;VALUE=DATE:20260509T120000
LOCATION:Im Goldenen LÃ¶wen Arheilgen
DESCRIPTION:www.partyamt.de/index.php?action=single&id=190851
END:VEVENT
END:VCALENDAR