BEGIN:VCALENDAR
PRODID:Partyamt DarmstadtVERSION:2.0
X-WR-CALNAME:Partyamt DarmstadtUID:190700@partyamt.deX-WR-TIMEZONE:Europe/Berlin
CALSCALE:GREGORIAN
METHOD:PUBLISH
BEGIN:VEVENT
SUMMARY:Vinyl Flohmarkt Darmstadt
DTSTART:20260530T100000
DTEND;VALUE=DATE:20260530T120000
LOCATION:Zum Goldnen LÃ¶wen
DESCRIPTION:www.partyamt.de/index.php?action=single&id=190700
END:VEVENT
END:VCALENDAR