BEGIN:VCALENDAR
PRODID:Partyamt DarmstadtVERSION:2.0
X-WR-CALNAME:Partyamt DarmstadtUID:190427@partyamt.deX-WR-TIMEZONE:Europe/Berlin
CALSCALE:GREGORIAN
METHOD:PUBLISH
BEGIN:VEVENT
SUMMARY:Kindersachenflohmarkt
DTSTART:20260530T100000
DTEND;VALUE=DATE:20260530T120000
LOCATION:Kahlertstr. 1
DESCRIPTION:www.partyamt.de/index.php?action=single&id=190427
END:VEVENT
END:VCALENDAR