BEGIN:VCALENDAR
PRODID:Partyamt DarmstadtVERSION:2.0
X-WR-CALNAME:Partyamt DarmstadtUID:190424@partyamt.deX-WR-TIMEZONE:Europe/Berlin
CALSCALE:GREGORIAN
METHOD:PUBLISH
BEGIN:VEVENT
SUMMARY:Frauen Community Treffen
DTSTART:20260530T103000
DTEND;VALUE=DATE:20260530T123000
LOCATION:happy place darmstadt
DESCRIPTION:www.partyamt.de/index.php?action=single&id=190424
END:VEVENT
END:VCALENDAR