BEGIN:VCALENDAR
PRODID:Partyamt DarmstadtVERSION:2.0
X-WR-CALNAME:Partyamt DarmstadtUID:190423@partyamt.deX-WR-TIMEZONE:Europe/Berlin
CALSCALE:GREGORIAN
METHOD:PUBLISH
BEGIN:VEVENT
SUMMARY:Frauen Community Treffen
DTSTART:20260425T103000
DTEND;VALUE=DATE:20260425T123000
LOCATION:happy place darmstadt
DESCRIPTION:www.partyamt.de/index.php?action=single&id=190423
END:VEVENT
END:VCALENDAR