BEGIN:VCALENDAR
PRODID:Partyamt DarmstadtVERSION:2.0
X-WR-CALNAME:Partyamt DarmstadtUID:190332@partyamt.deX-WR-TIMEZONE:Europe/Berlin
CALSCALE:GREGORIAN
METHOD:PUBLISH
BEGIN:VEVENT
SUMMARY:Fundstück aufm Grundstück & kleinesFundstück
DTSTART:20260621T100000
DTEND;VALUE=DATE:20260621T120000
LOCATION:Hof-Flohmarkt im Martinsviertel 
DESCRIPTION:www.partyamt.de/index.php?action=single&id=190332
END:VEVENT
END:VCALENDAR