BEGIN:VCALENDAR
PRODID:Partyamt DarmstadtVERSION:2.0
X-WR-CALNAME:Partyamt DarmstadtUID:190331@partyamt.deX-WR-TIMEZONE:Europe/Berlin
CALSCALE:GREGORIAN
METHOD:PUBLISH
BEGIN:VEVENT
SUMMARY:Neuland Gruselige Bilder einer Ausstellung
DTSTART:20260425T153000
DTEND;VALUE=DATE:20260425T173000
LOCATION:Orangerie
DESCRIPTION:www.partyamt.de/index.php?action=single&id=190331
END:VEVENT
END:VCALENDAR