BEGIN:VCALENDAR
PRODID:Partyamt DarmstadtVERSION:2.0
X-WR-CALNAME:Partyamt DarmstadtUID:189386@partyamt.deX-WR-TIMEZONE:Europe/Berlin
CALSCALE:GREGORIAN
METHOD:PUBLISH
BEGIN:VEVENT
SUMMARY:Theater Die seltsame Gräfin
DTSTART:20260321T200000
DTEND;VALUE=DATE:20260321T220000
LOCATION:Neue BÃ¼hne
DESCRIPTION:www.partyamt.de/index.php?action=single&id=189386
END:VEVENT
END:VCALENDAR