BEGIN:VCALENDAR
PRODID:Partyamt DarmstadtVERSION:2.0
X-WR-CALNAME:Partyamt DarmstadtUID:189270@partyamt.deX-WR-TIMEZONE:Europe/Berlin
CALSCALE:GREGORIAN
METHOD:PUBLISH
BEGIN:VEVENT
SUMMARY:Mary Shelly's Frankenstein
DTSTART:20260214T193000
DTEND;VALUE=DATE:20260214T213000
LOCATION:Ernst-Ludwig-Saal, Eberstadt
DESCRIPTION:www.partyamt.de/index.php?action=single&id=189270
END:VEVENT
END:VCALENDAR