BEGIN:VCALENDAR
PRODID:Partyamt DarmstadtVERSION:2.0
X-WR-CALNAME:Partyamt DarmstadtUID:188323@partyamt.deX-WR-TIMEZONE:Europe/Berlin
CALSCALE:GREGORIAN
METHOD:PUBLISH
BEGIN:VEVENT
SUMMARY:Filmkreis-Kino: Ninja Motherf*cking Destruction
DTSTART:20260326T200000
DTEND;VALUE=DATE:20260326T220000
LOCATION:Audimax / TUD
DESCRIPTION:www.partyamt.de/index.php?action=single&id=188323
END:VEVENT
END:VCALENDAR